Workbook

Sheet 分析シート
B2: ５年前 | C2: ４年前 | D2: ３年前 | E2: ２年前 | F2: 前期
A3: 売上 | B3: =BSPL!Q9 -> 100 | C3: =BSPL!R9 -> 600 | D3: =BSPL!S9 -> 300 | E3: =BSPL!T9 -> 400 | F3: =BSPL!U9 -> 150
A12: 重要指標
A13: 営業利益 | B13: =BSPL!Q22 -> 20 | C13: =BSPL!R22 -> 15 | D13: =BSPL!S22 -> 0 | E13: =BSPL!T22 -> 27 | F13: =BSPL!U22 -> 20
A14: 現預金残高 | B14: =BSPL!B10 -> 0 | C14: =BSPL!C10 -> 0 | D14: =BSPL!D10 -> 0 | E14: =BSPL!E10 -> 0 | F14: =BSPL!F10 -> 0
A15: 有利子負債 | B15: =BSPL!I12+BSPL!I23 -> 0 | C15: =BSPL!J12+BSPL!J23 -> 0 | D15: =BSPL!K12+BSPL!K23 -> 0 | E15: =BSPL!L12+BSPL!L23 -> 0 | F15: =BSPL!M12+BSPL!M23 -> 0
A16: 純利益 | B16: =BSPL!I43 -> 0 | C16: =BSPL!J43 -> 0 | D16: =BSPL!K43 -> 0 | E16: =BSPL!L43 -> 0 | F16: =BSPL!M43 -> 0
A22: 主要顧客売上
A23: A社
A24: B社
A25: C社
A28: 主要商品利益
A29: A商品
A30: B商品
A31: C商品
A34: 外部環境変化
A39: 内部環境変化
A44: 経営判断
A49: 結果の原因

Sheet BSPL
A1: 入力BS/PL | L1: 入力必須
H2: =[1]表紙!B1 -> 0 | L2: 計算式有・入力不要
M4: 単位（千円） | U4: 単位（千円）
A5: 貸 借 対 照 表 | P5: 損 益 計 算 書
A6: 決算月
A7: 資 産 | B7: 5年前 | C7: 4年前 | D7: 3年前 | E7: 2年前 | F7: 1年前 | G7: 当 期 | H7: 負債 及び 資本 | I7: 5年前 | J7: 4年前 | K7: 3年前 | L7: 2年前 | M7: 1年前 | N7: 当 期 | P7: 科 目 | Q7: 5年前 | R7: 4年前 | S7: 3年前 | T7: 2年前 | U7: 1年前 | V7: 当 期
A8: (資産の部) | H8: (負債の部) | P8: 営業損益の部
A9: 流動資産 | H9: 流動負債 | P9: 売 上 高 | Q9: 100 | R9: 600 | S9: 300 | T9: 400 | U9: 150
A10: 現金及び 預金 | H10: 支払手形
A11: 受 取 手 形 | H11: 買掛金 | P11: 売上原価
A12: 売 掛 金 | H12: 短期借入金 | P12: 製品・商品期首残高
A13: 有 価 証 券 | H13: 未払金 | P13: 当期 製品製造原価
A14: 自 己 株 式 | H14: 未払法人税等 | P14: 当期 商品 仕入高
A15: 製 品 | H15: 未払消費税 | P15: 合 計 | Q15: =Q12+Q13+Q14 -> 0 | R15: =R12+R13+R14 -> 0 | S15: =S12+S13+S14 -> 0 | T15: =T12+T13+T14 -> 0 | U15: =U12+U13+U14 -> 0 | V15: =V12+V13+V14 -> 0
A16: 商 品 | H16: 未払費用 | P16: 製品・商品期末残高
A17: 原 材 料 | H17: 預り金 | P17: 他勘定振替高
A18: 仕 掛 品 | H18: 前受金 | P18: 売上総利益
A19: 前払費用
A20: 短期貸付金 | P20: 販売費及び一般管理費
A21: 未収入金 | H21: その他流動負債 | I21: =I9-I10-I11-I12-I13-I14-I15-I16-I17-I18-I19-I20 -> 0 | J21: =J9-J10-J11-J12-J13-J14-J15-J16-J17-J18-J19-J20 -> 0 | K21: =K9-K10-K11-K12-K13-K14-K15-K16-K17-K18-K19-K20 -> 0 | L21: =L9-L10-L11-L12-L13-L14-L15-L16-L17-L18-L19-L20 -> 0 | M21: =M9-M10-M11-M12-M13-M14-M15-M16-M17-M18-M19-M20 -> 0 | N21: =N9-N10-N11-N12-N13-N14-N15-N16-N17-N18-N19-N20 -> 0
A22: 前渡金 | H22: 固定負債 | P22: 営業 利益 | Q22: 20 | R22: 15 | S22: 0 | T22: 27 | U22: 20
A23: 貸倒引当金 | H23: 長期 借入金 | P23: 営業外損益の部
H24: 長期未払い金 | P24: 営業外収益
A25: その他流動資産 | B25: =B9-B10-B11-B12-B13-B14-B15-B16-B17-B18-B19-B20-B21-B22-B23-B24 -> 0 | C25: =C9-C10-C11-C12-C13-C14-C15-C16-C17-C18-C19-C20-C21-C22-C23-C24 -> 0 | D25: =D9-D10-D11-D12-D13-D14-D15-D16-D17-D18-D19-D20-D21-D22-D23-D24 -> 0 | E25: =E9-E10-E11-E12-E13-E14-E15-E16-E17-E18-E19-E20-E21-E22-E23-E24 -> 0 | F25: =F9-F10-F11-F12-F13-F14-F15-F16-F17-F18-F19-F20-F21-F22-F23-F24 -> 0 | G25: =G9-G10-G11-G12-G13-G14-G15-G16-G17-G18-G19-G20-G21-G22-G23-G24 -> 0 | H25: 退職給与引当金 | P25: 受取利息
A26: 固定資産 | H26: 社債 | P26: 配当金
A27: 有形固定資産 | H27: リース債務 | P27: 雑 収 入
A28: 土地 | H28: 役員借入金 | P28: 営業外費用
A29: 建物 | H29: 預り保証金 | P29: 支払利息及び割引料
A30: 機会装置 | H30: その他固定負債 | I30: =I22-I23-I24-I25-I26-I27-I28-I29 -> 0 | J30: =J22-J23-J24-J25-J26-J27-J28-J29 -> 0 | K30: =K22-K23-K24-K25-K26-K27-K28-K29 -> 0 | L30: =L22-L23-L24-L25-L26-L27-L28-L29 -> 0 | M30: =M22-M23-M24-M25-M26-M27-M28-M29 -> 0 | N30: =N22-N23-N24-N25-N26-N27-N28-N29 -> 0 | P30: 雑 支 出
A31: 建物付属設備 | H31: 負債合計 | P31: 繰延資産償却
A32: 建設仮勘定 | P32: 経 常 利 益
A33: その他有形固定資産 | B33: =B27-B28-B29-B30-B31 -> 0 | C33: =C27-C28-C29-C30-C31 -> 0 | D33: =D27-D28-D29-D30-D31 -> 0 | E33: =E27-E28-E29-E30-E31 -> 0 | F33: =F27-F28-F29-F30-F31 -> 0 | G33: =G27-G28-G29-G30-G31 -> 0 | H33: (資本の部) | P33: （特別損益の部）
A34: 無形固定資産 | H34: 資本金 | P34: 特別利益
A35: ソフトウエア | H35: 資本剰余金 | P35: 固定資産売却益
A36: 電話 加入権 | H36: 利益剰余金 | P36: 保険差益金
H37: 退職積立金 | P37: 特別損失
A38: 投資等 | H38: 別途積立金
A39: 投資有価証券 | H39: 繰越利益剰余金
A40: 長期貸付金 | H40: 自己株式（-） | P40: 税引前当期利益
A41: 長期前払費用 | H41: 株主資本計 | I41: =I43-I42 -> 0 | J41: =J43-J42 -> 0 | K41: =K43-K42 -> 0 | L41: =L43-L42 -> 0 | M41: =M43-M42 -> 0 | N41: =N43-N42 -> 0 | P41: 法人税及び住民税
...

Sheet 固変入力
A1: 入力固変 | E1: =[1]表紙!B1 -> 0 | L1: 入力必須
A2: 変動損益計算書 | H2: 販売管理費及び一般管理費 | L2: 計算式有・入力不要 | O2: 製造原価明細書
A4: 項目 | B4: 5年前 | C4: 4年前 | D4: 3年前 | E4: 前々期 | F4: 前 期 | G4: 当 期 | H4: 項目 | I4: 5年前 | J4: 4年前 | K4: 3年前 | L4: 前々期 | M4: 前 期 | N4: 当 期 | O4: 項目 | P4: 5年前 | Q4: 4年前 | R4: 3年前 | S4: 前々期 | T4: 前 期 | U4: 当 期
A5: 売上高 | B5: =BSPL!Q9 -> 100 | C5: =BSPL!R9 -> 600 | D5: =BSPL!S9 -> 300 | E5: =BSPL!T9 -> 400 | F5: =BSPL!U9 -> 150 | G5: =BSPL!V9 -> 0 | H5: 従業員給与 | O5: 材料費
A6: （主要顧客売上） | H6: その他給与 | O6: 期首材料棚卸高
H7: 役員報酬 | O7: 主要材料費
H8: 退職金 | O8: 期末材料棚卸高
H9: 従業員賞与
H10: 法定福利費
H11: 厚生費 | O11: 労務費
H12: 旅費交通費 | O12: 給与手当
A13: （主要商品売上） | H13: 退職給付引当金 | O13: 賞与
H14: その他人件費 | O14: 退職金
H15: （人件費） | I15: =I5+I6+I7+I8+I9+I10+I11+I12+I13+I14 -> 0 | J15: =J5+J6+J7+J8+J9+J10+J11+J12+J13+J14 -> 0 | K15: =K5+K6+K7+K8+K9+K10+K11+K12+K13+K14 -> 0 | L15: =L5+L6+L7+L8+L9+L10+L11+L12+L13+L14 -> 0 | M15: =M5+M6+M7+M8+M9+M10+M11+M12+M13+M14 -> 0 | N15: =N5+N6+N7+N8+N9+N10+N11+N12+N13+N14 -> 0 | O15: その他労務費
H16: 広告宣伝費 | O16: 法定福利費
H17: 調査研究費 | O17: 福利厚生費
H18: 図書研究費 | O18: 退職給付引当金
H19: 販促費 | O19: 外注加工費
A20: （部門別売上） | H20: （未来費用） | I20: =I16+I17+I18+I19 -> 0 | J20: =J16+J17+J18+J19 -> 0 | K20: =K16+K17+K18+K19 -> 0 | L20: =L16+L17+L18+L19 -> 0 | M20: =M16+M17+M18+M19 -> 0 | N20: =N16+N17+N18+N19 -> 0 | O20: 外注費
H21: 減価償却費 | O21: 外注人件費
H22: 車両費
H23: 支払い手数料
H24: 賃借料
H25: 地代家賃
H26: 修繕費
A27: 変動費 | C27: =[1]比較損益入力!Q2 -> 0 | D27: =[1]比較損益入力!S17+[1]比較損益入力!S15-+[1]比較損益入力!S19-+[1]比較損益入力!S20+[1]比較損益入力!C18+[1]比較損益入力!C19-+[1]比較損益入力!D18-+[1]比較損益入力!D19+[1]変動損益入力!R5+[1]変動損益入力!R19 -> 0 | E27: =[1]比較損益入力!T17+[1]比較損益入力!T15-+[1]比較損益入力!T19-+[1]比較損益入力!T20+[1]比較損益入力!D18+[1]比較損益入力!D19-+[1]比較損益入力!E18-+[1]比較損益入力!E19+[1]変動損益入力!S5+[1]変動損益入力!S19 -> 0 | F27: =[1]比較損益入力!U17+[1]比較損益入力!U15-+[1]比較損益入力!U19-+[1]比較損益入力!U20+[1]比較損益入力!E18+[1]比較損益入力!E19-+[1]比較損益入力!F18-+[1]比較損益入力!F19+[1]変動損益入力!T5+[1]変動損益入力!T19 -> 0 | G27: =[1]比較損益入力!V17+[1]比較損益入力!V15-+[1]比較損益入力!V19-+[1]比較損益入力!V20+[1]比較損益入力!F18+[1]比較損益入力!F19-+[1]比較損益入力!G18-+[1]比較損益入力!G19+[1]変動損益入力!U5+[1]変動損益入力!U19 -> 0 | H27: 事務消耗品 | O27: 経費
A28: 期首製品商品棚卸高 | H28: 通信費 | O28: 減価償却費
A29: 商品仕入高 | H29: 水道光熱費 | O29: 物流費
A30: 期末製品商品棚卸高 | H30: 租税公課 | O30: 労務費
A31: 期首仕掛品棚卸高 | H31: 寄付金 | O31: 修繕費
A32: 期末仕掛品棚卸高 | H32: 商談費
A33: （材料費） | H33: 接待交際費
A34: （外注加工費） | H34: 保険料
A35: その他変動費 | H35: 備品消耗費 | O35: 雑費
A36: 限界利益 | B36: =B5-B27 -> 100 | C36: =C5-C27 -> 600 | D36: =D5-D27 -> 300 | E36: =E5-E27 -> 400 | F36: =F5-F27 -> 150 | G36: =G5-G27 -> 0 | H36: 管理諸費
A37: 固定費計 | B37: =[1]変動損益入力!B20-[1]比較損益入力!Q35 -> 100 | C37: =[1]変動損益入力!C20-[1]比較損益入力!R35 -> 150 | D37: =[1]変動損益入力!D20-[1]比較損益入力!S35 -> 300 | E37: =[1]変動損益入力!E20-[1]比較損益入力!T35 -> 400 | F37: =[1]変動損益入力!F20-[1]比較損益入力!U35 -> 150 | G37: =[1]変動損益入力!G20-[1]比較損益入力!V35 -> 0 | H37: 諸会費 | O37: 製造費合計
A38: 人件費計 | B38: =I15+P30 -> 0 | C38: =J15+Q30 -> 0 | D38: =K15+R30 -> 0 | E38: =L15+S30 -> 0 | F38: =M15+T30 -> 0 | G38: =N15+U11 -> 0 | H38: 貸倒償却
A39: その他固定費 | B39: =B36-B38 -> 100 | C39: =C36-C38 -> 600 | D39: =D36-D38 -> 300 | E39: =E36-E38 -> 400 | F39: =F36-F38 -> 150 | G39: =G36-G38 -> 0 | H39: 雑費 | O39: 期首仕掛品棚卸高
H40: 運賃発送費 | O40: 期末仕掛品棚卸高
H41: 外注人件費
...
