Workbook

Sheet 比較損益入力
A1: 入力BS/PL | L1: 入力必須
H2: =#REF! -> #REF! | L2: 計算式有・入力不要
M4: 単位（千円） | U4: 単位（千円）
A5: 貸 借 対 照 表 | P5: 損 益 計 算 書
A6: 決算月
A7: 資 産 | B7: 5年前 | C7: 4年前 | D7: 3年前 | E7: 前々期 | F7: 前 期 | G7: 当 期 | H7: 負債 及び 資本 | I7: 5年前 | J7: 4年前 | K7: 3年前 | L7: 前々期 | M7: 前 期 | N7: 当 期 | P7: 科 目 | Q7: 5年前 | R7: 4年前 | S7: 3年前 | T7: 前々期 | U7: 前 期 | V7: 当 期
A8: (資産の部) | H8: (負債の部) | P8: （経常損益の部）
P9: 営業損益の部
A10: 流動資産 | H10: 流動負債 | P10: 売 上 高
A11: 現金及び 預金 | H11: 支払手形
A12: 受 取 手 形 | H12: 買掛金
A13: 売 掛 金 | H13: 短期借入金
A14: 有 価 証 券 | H14: 未払金 | P14: 売上原価
A15: 自 己 株 式 | H15: 未払法人税等 | P15: 製品・商品期首残高
A16: 製 品 | H16: 未払消費税 | P16: 当期 製品製造原価
A17: 商 品 | H17: 未払費用 | P17: 当期 商品 仕入高
A18: 原 材 料 | H18: 預り金 | P18: 合 計 | Q18: =Q15+Q16+Q17 -> 0 | R18: =R15+R16+R17 -> 0 | S18: =S15+S16+S17 -> 0 | T18: =T15+T16+T17 -> 0 | U18: =U15+U16+U17 -> 0 | V18: =V15+V16+V17 -> 0
A19: 仕 掛 品 | H19: 前受金 | P19: 製品・商品期末残高
P20: 他勘定振替高
A21: 短期貸付金 | P21: 売上総利益
H22: その他流動負債 | I22: =I10-I11-I12-I13-I14-I15-I16-I17-I18-I19-I20-I21 -> 0 | J22: =J10-J11-J12-J13-J14-J15-J16-J17-J18-J19-J20-J21 -> 0 | K22: =K10-K11-K12-K13-K14-K15-K16-K17-K18-K19-K20-K21 -> 0 | L22: =L10-L11-L12-L13-L14-L15-L16-L17-L18-L19-L20-L21 -> 0 | M22: =M10-M11-M12-M13-M14-M15-M16-M17-M18-M19-M20-M21 -> 0 | N22: =N10-N11-N12-N13-N14-N15-N16-N17-N18-N19-N20-N21 -> 0
H23: 固定負債 | P23: 販売費及び一般管理費
A24: 貸倒引当金 | H24: 長期 借入金
H25: 長期未払い金 | P25: 営業 利益
A26: その他流動資産 | B26: =B10-B11-B12-B13-B14-B15-B16-B17-B18-B19-B20-B21-B22-B23-B24-B25 -> 0 | C26: =C10-C11-C12-C13-C14-C15-C16-C17-C18-C19-C20-C21-C22-C23-C24-C25 -> 0 | D26: =D10-D11-D12-D13-D14-D15-D16-D17-D18-D19-D20-D21-D22-D23-D24-D25 -> 0 | E26: =E10-E11-E12-E13-E14-E15-E16-E17-E18-E19-E20-E21-E22-E23-E24-E25 -> 0 | F26: =F10-F11-F12-F13-F14-F15-F16-F17-F18-F19-F20-F21-F22-F23-F24-F25 -> 0 | G26: =G10-G11-G12-G13-G14-G15-G16-G17-G18-G19-G20-G21-G22-G23-G24-G25 -> 0 | H26: 退職給与引当金 | P26: 営業外損益の部
A27: 固定資産 | H27: 社債 | P27: 営業外収益
A28: 有形固定資産 | H28: リース債務 | P28: 受取利息
A29: 土地 | H29: 役員借入金 | P29: 配当金
A30: 建物 | H30: 預り保証金 | P30: 雑 収 入
A31: 機会装置 | H31: その他固定負債 | I31: =I23-I24-I25-I26-I27-I28-I29-I30 -> 0 | J31: =J23-J24-J25-J26-J27-J28-J29-J30 -> 0 | K31: =K23-K24-K25-K26-K27-K28-K29-K30 -> 0 | L31: =L23-L24-L25-L26-L27-L28-L29-L30 -> 0 | M31: =M23-M24-M25-M26-M27-M28-M29-M30 -> 0 | N31: =N23-N24-N25-N26-N27-N28-N29-N30 -> 0 | P31: 営業外費用
A32: 建物付属設備 | H32: 負債合計 | P32: 支払利息及び割引料
A33: 建設仮勘定 | P33: 雑 支 出
A34: その他有形固定資産 | B34: =B28-B29-B30-B31-B32 -> 0 | C34: =C28-C29-C30-C31-C32 -> 0 | D34: =D28-D29-D30-D31-D32 -> 0 | E34: =E28-E29-E30-E31-E32 -> 0 | F34: =F28-F29-F30-F31-F32 -> 0 | G34: =G28-G29-G30-G31-G32 -> 0 | H34: (資本の部) | P34: 繰延資産償却
A35: 無形固定資産 | H35: 資本金 | P35: 経 常 利 益
A36: ソフトウエア | H36: 資本剰余金
A37: 電話 加入権 | H37: 利益剰余金
H38: 退職積立金 | P38: （特別損益の部）
A39: 投資等 | H39: 別途積立金 | P39: 特別利益
A40: 投資有価証券 | H40: 繰越利益剰余金 | P40: 固定資産売却益
A41: 長期貸付金 | H41: 自己株式（-） | P41: 保険差益金
...

Sheet 変動損益入力
A1: 入力固変 | E1: =#REF! -> #REF!
A2: 変動損益計算書 | H2: 販売管理費及び一般管理費 | O2: 製造原価明細書
A4: 項目 | B4: 5年前 | C4: 4年前 | D4: 3年前 | E4: 前々期 | F4: 前 期 | G4: 当 期 | H4: 項目 | I4: 5年前 | J4: 4年前 | K4: 3年前 | L4: 前々期 | M4: 前 期 | N4: 当 期 | O4: 項目 | P4: 5年前 | Q4: 4年前 | R4: 3年前 | S4: 前々期 | T4: 前 期 | U4: 当 期
A5: 売上高 | B5: =比較損益入力!Q10 -> 0 | C5: =比較損益入力!R10 -> 0 | D5: =比較損益入力!S10 -> 0 | E5: =比較損益入力!T10 -> 0 | F5: =比較損益入力!U10 -> 0 | G5: =比較損益入力!V10 -> 0 | H5: 従業員給与 | O5: 材料費
H6: その他給与 | O6: 期首材料棚卸高
H7: 役員報酬 | O7: 主要材料費
H8: 退職金 | O8: 期末材料棚卸高
H9: 従業員賞与
H10: 法定福利費
A11: 変動費 | C11: =比較損益入力!R17+比較損益入力!R15-+比較損益入力!R19-+比較損益入力!R20+比較損益入力!B18+比較損益入力!B19-+比較損益入力!C18-+比較損益入力!C19+変動損益入力!Q5+変動損益入力!Q19 -> 0 | D11: =比較損益入力!S17+比較損益入力!S15-+比較損益入力!S19-+比較損益入力!S20+比較損益入力!C18+比較損益入力!C19-+比較損益入力!D18-+比較損益入力!D19+変動損益入力!R5+変動損益入力!R19 -> 0 | E11: =比較損益入力!T17+比較損益入力!T15-+比較損益入力!T19-+比較損益入力!T20+比較損益入力!D18+比較損益入力!D19-+比較損益入力!E18-+比較損益入力!E19+変動損益入力!S5+変動損益入力!S19 -> 0 | F11: =比較損益入力!U17+比較損益入力!U15-+比較損益入力!U19-+比較損益入力!U20+比較損益入力!E18+比較損益入力!E19-+比較損益入力!F18-+比較損益入力!F19+変動損益入力!T5+変動損益入力!T19 -> 0 | G11: =比較損益入力!V17+比較損益入力!V15-+比較損益入力!V19-+比較損益入力!V20+比較損益入力!F18+比較損益入力!F19-+比較損益入力!G18-+比較損益入力!G19+変動損益入力!U5+変動損益入力!U19 -> 0 | H11: 厚生費 | O11: 労務費
A12: 期首製品商品棚卸高 | H12: 旅費交通費 | O12: 給与手当
A13: 商品仕入高 | H13: 退職給付引当金 | O13: 賞与
A14: 期末製品商品棚卸高（ー） | H14: その他人件費 | O14: 退職金
A15: 期首仕掛品棚卸高 | H15: （人件費） | I15: =I5+I6+I7+I8+I9+I10+I11+I12+I13+I14 -> 0 | J15: =J5+J6+J7+J8+J9+J10+J11+J12+J13+J14 -> 0 | K15: =K5+K6+K7+K8+K9+K10+K11+K12+K13+K14 -> 0 | L15: =L5+L6+L7+L8+L9+L10+L11+L12+L13+L14 -> 0 | M15: =M5+M6+M7+M8+M9+M10+M11+M12+M13+M14 -> 0 | N15: =N5+N6+N7+N8+N9+N10+N11+N12+N13+N14 -> 0 | O15: その他労務費
A16: 期末仕掛品棚卸高（ー） | H16: 広告宣伝費 | O16: 法定福利費
A17: （材料費） | H17: 調査研究費 | O17: 福利厚生費
A18: （外注加工費） | H18: 図書研究費 | O18: 退職給付引当金
A19: その他変動費 | H19: 販促費 | O19: 外注加工費
A20: 限界利益 | B20: =B5-B11 -> 0 | C20: =C5-C11 -> 0 | D20: =D5-D11 -> 0 | E20: =E5-E11 -> 0 | F20: =F5-F11 -> 0 | G20: =G5-G11 -> 0 | H20: （未来費用） | I20: =I16+I17+I18+I19 -> 0 | J20: =J16+J17+J18+J19 -> 0 | K20: =K16+K17+K18+K19 -> 0 | L20: =L16+L17+L18+L19 -> 0 | M20: =M16+M17+M18+M19 -> 0 | N20: =N16+N17+N18+N19 -> 0 | O20: 外注費
A21: 固定費計 | B21: =変動損益入力!B20-比較損益入力!Q35 -> 0 | C21: =変動損益入力!C20-比較損益入力!R35 -> 0 | D21: =変動損益入力!D20-比較損益入力!S35 -> 0 | E21: =変動損益入力!E20-比較損益入力!T35 -> 0 | F21: =変動損益入力!F20-比較損益入力!U35 -> 0 | G21: =変動損益入力!G20-比較損益入力!V35 -> 0 | H21: 減価償却費 | O21: 外注人件費
A22: 人件費計 | B22: =I15+P30 -> 0 | C22: =J15+Q30 -> 0 | D22: =K15+R30 -> 0 | E22: =L15+S30 -> 0 | F22: =M15+T30 -> 0 | G22: =N15+U11 -> 0 | H22: 車両費
A23: その他固定費 | B23: =B20-B22 -> 0 | C23: =C20-C22 -> 0 | D23: =D20-D22 -> 0 | E23: =E20-E22 -> 0 | F23: =F20-F22 -> 0 | G23: =G20-G22 -> 0 | H23: 支払い手数料
H24: 賃借料
H25: 地代家賃
H26: 修繕費
H27: 事務消耗品 | O27: 経費
H28: 通信費 | O28: 減価償却費
H29: 水道光熱費 | O29: 物流費
H30: 租税公課 | O30: 労務費
H31: 寄付金 | O31: 修繕費
H32: 商談費
H33: 接待交際費
H34: 保険料
H35: 備品消耗費 | O35: 雑費
H36: 管理諸費
H37: 諸会費 | O37: 製造費合計
H38: 貸倒償却
H39: 雑費 | O39: 期首仕掛品棚卸高
H40: 運賃発送費 | O40: 期末仕掛品棚卸高
H41: 外注人件費
...

Sheet 財務分析
A1: 収益性
B3: 目安 | C3: 5年前 | D3: 4年前 | E3: 3年前 | F3: 前々期 | G3: 前 期 | H3: 当 期 | L3: どのくらい儲かっているか（投入資金と利益の関係）
A4: ROA（総資本経常利益率） | B4: 5％以上 | C4: =IFERROR(比較損益入力!Q35/比較損益入力!B50,"") | D4: =IFERROR(比較損益入力!R35/比較損益入力!C50,"") | E4: =IFERROR(比較損益入力!S35/比較損益入力!D50,"") | F4: =IFERROR(比較損益入力!T35/比較損益入力!E50,"") | G4: =IFERROR(比較損益入力!U35/比較損益入力!F50,"") | H4: =IFERROR(比較損益入力!V35/比較損益入力!G50,"") | I4: 経常利益 ÷ 総 資 産 | L4: 企業の資本をいかに効率的に運用できているか
A5: ROE（自己資本純利益率） | B5: 10％以上 | C5: =IFERROR(比較損益入力!Q47/比較損益入力!I44,"") | D5: =IFERROR(比較損益入力!R47/比較損益入力!J44,"") | E5: =IFERROR(比較損益入力!S47/比較損益入力!K44,"") | F5: =IFERROR(比較損益入力!T47/比較損益入力!L44,"") | G5: =IFERROR(比較損益入力!U47/比較損益入力!M44,"") | H5: =IFERROR(比較損益入力!V47/比較損益入力!N44,"") | I5: 当期純利益 ÷ 自己資本 | L5: 自己資本に対してどれだけの当期純利益を上げたか
A6: 売上高経常利益率 | B6: 5％以上 | C6: =IFERROR(比較損益入力!Q35/比較損益入力!Q10,"") | D6: =IFERROR(比較損益入力!R35/比較損益入力!R10,"") | E6: =IFERROR(比較損益入力!S35/比較損益入力!S10,"") | F6: =IFERROR(比較損益入力!T35/比較損益入力!T10,"") | G6: =IFERROR(比較損益入力!U35/比較損益入力!U10,"") | H6: =IFERROR(比較損益入力!V35/比較損益入力!V10,"") | I6: 経常利益 ÷ 売上高 | L6: 売上に占める経常利益の割合＝収益力の高さ
A7: 総資本生産性 | B7: 100％以上 | C7: =IFERROR(比較損益入力!Q21/比較損益入力!I50,"") | D7: =IFERROR(比較損益入力!R21/比較損益入力!J50,"") | E7: =IFERROR(比較損益入力!S21/比較損益入力!K50,"") | F7: =IFERROR(比較損益入力!T21/比較損益入力!L50,"") | G7: =IFERROR(比較損益入力!U21/比較損益入力!M50,"") | H7: =IFERROR(比較損益入力!V21/比較損益入力!N50,"") | I7: 付加価値 ÷ 総資本 | L7: 固定資産への投資と生産量の割合を見る 労働生産性にあらわれる
A8: 付加価値経常利益率 | B8: 4％以上 | C8: =IFERROR(比較損益入力!Q35/比較損益入力!Q21,"") | D8: =IFERROR(比較損益入力!R35/比較損益入力!R21,"") | E8: =IFERROR(比較損益入力!S35/比較損益入力!S21,"") | F8: =IFERROR(比較損益入力!T35/比較損益入力!T21,"") | G8: =IFERROR(比較損益入力!U35/比較損益入力!U21,"") | H8: =IFERROR(比較損益入力!V35/比較損益入力!V21,"") | I8: 経常利益 ÷ 付加価値 | L8: 稼いだお金の使い方 労働分配率にあらわれる
A9: 総資本経常利益率 | B9: 3％以上 | C9: =IFERROR(比較損益入力!Q35/比較損益入力!I50,"") | D9: =IFERROR(比較損益入力!R35/比較損益入力!J50,"") | E9: =IFERROR(比較損益入力!S35/比較損益入力!K50,"") | F9: =IFERROR(比較損益入力!T35/比較損益入力!L50,"") | G9: =IFERROR(比較損益入力!U35/比較損益入力!M50,"") | H9: =IFERROR(比較損益入力!V35/比較損益入力!N50,"") | I9: 経常利益 ÷ 総資本 | L9: 総資本に占める経常利益の割合
A10: 売上高総利益率 | B10: 業種別 | C10: =IFERROR(比較損益入力!Q21/比較損益入力!Q10,"") | D10: =IFERROR(比較損益入力!R21/比較損益入力!R10,"") | E10: =IFERROR(比較損益入力!S21/比較損益入力!S10,"") | F10: =IFERROR(比較損益入力!T21/比較損益入力!T10,"") | G10: =IFERROR(比較損益入力!U21/比較損益入力!U10,"") | H10: =IFERROR(比較損益入力!V21/比較損益入力!V10,"") | I10: 売上総利益 ÷ 売上高 | L10: 飲食80％、卸売20％、小売業35％
A11: 売上高営業利益率 | B11: 3％以上 | C11: =IFERROR(比較損益入力!Q25/比較損益入力!Q10,"") | D11: =IFERROR(比較損益入力!R25/比較損益入力!R10,"") | E11: =IFERROR(比較損益入力!S25/比較損益入力!S10,"") | F11: =IFERROR(比較損益入力!T25/比較損益入力!T10,"") | G11: =IFERROR(比較損益入力!U25/比較損益入力!U10,"") | H11: =IFERROR(比較損益入力!V25/比較損益入力!V10,"") | I11: 営業利益 ÷ 売上高 | L11: 売上に占める営業利益の割合
A12: 効率性
B14: 目安 | C14: 5年前 | D14: 4年前 | E14: 3年前 | F14: 前々期 | G14: 前 期 | H14: 当 期 | L14: 少ない費用でより多く儲ける上手な経営 利益と費用のバランスの分析
A15: 売上高売上原価率 | B15: 業種別 | C15: =IFERROR(比較損益入力!Q14/比較損益入力!Q10,"") | D15: =IFERROR(比較損益入力!R14/比較損益入力!R10,"") | E15: =IFERROR(比較損益入力!S14/比較損益入力!S10,"") | F15: =IFERROR(比較損益入力!T14/比較損益入力!T10,"") | G15: =IFERROR(比較損益入力!U14/比較損益入力!U10,"") | H15: =IFERROR(比較損益入力!V14/比較損益入力!V10,"") | I15: 売上原価 ÷ 売上高 | L15: 売上に対する原価は適切かどうか
A16: 売上高販管費率 | B16: 20％以下 | C16: =IFERROR(比較損益入力!Q23/比較損益入力!Q10,"") | D16: =IFERROR(比較損益入力!R23/比較損益入力!R10,"") | E16: =IFERROR(比較損益入力!S23/比較損益入力!S10,"") | F16: =IFERROR(比較損益入力!T23/比較損益入力!T10,"") | G16: =IFERROR(比較損益入力!U23/比較損益入力!U10,"") | H16: =IFERROR(比較損益入力!V23/比較損益入力!V10,"") | I16: 一般管理費 ÷ 売上高 | L16: 売上に対する販管費は適切かどうか
A17: 売上高人件費率 | B17: 業種別 | C17: =IFERROR(比較損益入力!Q54/比較損益入力!Q10,"") | D17: =IFERROR(比較損益入力!R54/比較損益入力!R10,"") | E17: =IFERROR(比較損益入力!S54/比較損益入力!S10,"") | F17: =IFERROR(比較損益入力!T54/比較損益入力!T10,"") | G17: =IFERROR(比較損益入力!U54/比較損益入力!U10,"") | H17: =IFERROR(比較損益入力!V54/比較損益入力!V10,"") | I17: 人件費 ÷ 売上高 | L17: 売上に対する人数（人件費）は適正かどうか
A18: 労働生産性 | B18: 550万以上 | C18: =IFERROR(比較損益入力!Q21/比較損益入力!Q53,"") | D18: =IFERROR(比較損益入力!R21/比較損益入力!R53,"") | E18: =IFERROR(比較損益入力!S21/比較損益入力!S53,"") | F18: =IFERROR(比較損益入力!T21/比較損益入力!T53,"") | G18: =IFERROR(比較損益入力!U21/比較損益入力!U53,"") | H18: =IFERROR(比較損益入力!V21/比較損益入力!V53,"") | I18: 付加価値 ÷ 従業員数 | L18: 従業員一人当たりの生み出した付加価値 労働の生産性の高低を知る
A19: 労働分配率 | B19: 50％以下 | C19: =IFERROR(比較損益入力!Q54/比較損益入力!Q21,"") | D19: =IFERROR(比較損益入力!R54/比較損益入力!R21,"") | E19: =IFERROR(比較損益入力!S54/比較損益入力!S21,"") | F19: =IFERROR(比較損益入力!T54/比較損益入力!T21,"") | G19: =IFERROR(比較損益入力!U54/比較損益入力!U21,"") | H19: =IFERROR(比較損益入力!V54/比較損益入力!V21,"") | I19: 人件費 ÷ 付加価値 | L19: 人件費の額が適切かどうか
A20: 総資本回転率 | B20: 2回以上 | C20: =IFERROR(比較損益入力!Q10/比較損益入力!B50,"") | D20: =IFERROR(比較損益入力!R10/比較損益入力!C50,"") | E20: =IFERROR(比較損益入力!S10/比較損益入力!D50,"") | F20: =IFERROR(比較損益入力!T10/比較損益入力!E50,"") | G20: =IFERROR(比較損益入力!U10/比較損益入力!F50,"") | H20: =IFERROR(比較損益入力!V10/比較損益入力!G50,"") | I20: 売 上 高 ÷ 総 資 産 | L20: 年間売上によって総資本が何回入れ替わったか
A21: 棚卸資産 回転率 | B21: 業種別 | C21: =IFERROR(比較損益入力!Q10/(比較損益入力!B16+比較損益入力!B17+比較損益入力!B18+比較損益入力!B19),"") | D21: =IFERROR(比較損益入力!R10/(比較損益入力!C16+比較損益入力!C17+比較損益入力!C18+比較損益入力!C19),"") | E21: =IFERROR(比較損益入力!S10/(比較損益入力!D16+比較損益入力!D17+比較損益入力!D18+比較損益入力!D19),"") | F21: =IFERROR(比較損益入力!T10/(比較損益入力!E16+比較損益入力!E17+比較損益入力!E18+比較損益入力!E19),"") | G21: =IFERROR(比較損益入力!U10/(比較損益入力!F16+比較損益入力!F17+比較損益入力!F18+比較損益入力!F19),"") | H21: =IFERROR(比較損益入力!V10/(比較損益入力!G16+比較損益入力!G17+比較損益入力!G18+比較損益入力!G19),"") | I21: 売上高 ÷ 棚卸資産 | L21: 在庫の回転の速さ
A22: 売上債権 回転率 | B22: ６回以上 | C22: =IFERROR(比較損益入力!Q10/(比較損益入力!B12+比較損益入力!B13),"") | D22: =IFERROR(比較損益入力!R10/(比較損益入力!C12+比較損益入力!C13),"") | E22: =IFERROR(比較損益入力!S10/(比較損益入力!D12+比較損益入力!D13),"") | F22: =IFERROR(比較損益入力!T10/(比較損益入力!E12+比較損益入力!E13),"") | G22: =IFERROR(比較損益入力!U10/(比較損益入力!F12+比較損益入力!F13),"") | H22: =IFERROR(比較損益入力!V10/(比較損益入力!G12+比較損益入力!G13),"") | I22: 売上高÷（受取手形+売掛金） | L22: 売上高に対する、売上債権の割合
A23: 営業運転資本回転期間 | B23: 1.5か月 | C23: =IFERROR(((比較損益入力!B12+比較損益入力!B13+比較損益入力!B16+比較損益入力!B17+比較損益入力!B18+比較損益入力!B19)-(比較損益入力!I11+比較損益入力!I12))/(比較損益入力!Q10/12),"") | D23: =IFERROR(((比較損益入力!C12+比較損益入力!C13+比較損益入力!C16+比較損益入力!C17+比較損益入力!C18+比較損益入力!C19)-(比較損益入力!J11+比較損益入力!J12))/(比較損益入力!R10/12),"") | E23: =IFERROR(((比較損益入力!D12+比較損益入力!D13+比較損益入力!D16+比較損益入力!D17+比較損益入力!D18+比較損益入力!D19)-(比較損益入力!K11+比較損益入力!K12))/(比較損益入力!S10/12),"") | F23: =IFERROR(((比較損益入力!E12+比較損益入力!E13+比較損益入力!E16+比較損益入力!E17+比較損益入力!E18+比較損益入力!E19)-(比較損益入力!L11+比較損益入力!L12))/(比較損益入力!T10/12),"") | G23: =IFERROR(((比較損益入力!F12+比較損益入力!F13+比較損益入力!F16+比較損益入力!F17+比較損益入力!F18+比較損益入力!F19)-(比較損益入力!M11+比較損益入力!M12))/(比較損益入力!U10/12),"") | H23: =IFERROR(((比較損益入力!G12+比較損益入力!G13+比較損益入力!G16+比較損益入力!G17+比較損益入力!G18+比較損益入力!G19)-(比較損益入力!N11+比較損益入力!N12))/(比較損益入力!V10/12),"") | I23: （（売掛金+受取手形+棚卸)-(買掛金+支払い手形））÷売上高÷12 | L23: 事業を継続するために、売上高の何ヶ月分の運転資金が必要か
A24: 固定資産回転率 | B24: 2.5回以上 | C24: =IFERROR(比較損益入力!Q10/比較損益入力!B27,"") | D24: =IFERROR(比較損益入力!R10/比較損益入力!C27,"") | E24: =IFERROR(比較損益入力!S10/比較損益入力!D27,"") | F24: =IFERROR(比較損益入力!T10/比較損益入力!E27,"") | G24: =IFERROR(比較損益入力!U10/比較損益入力!F27,"") | H24: =IFERROR(比較損益入力!V10/比較損益入力!G27,"") | I24: 売上高 ÷ 固定資産 | L24: 設備投資が適切かどうか
A25: 安全性
B27: 目安 | C27: 5年前 | D27: 4年前 | E27: 3年前 | F27: 前々期 | G27: 前 期 | H27: 当 期 | L27: 資金繰り（支払い能力）を見る。借金と自前資金の関係
A28: 流動比率 | B28: 150％以上 | C28: =IFERROR(比較損益入力!B10/比較損益入力!I10,"") | D28: =IFERROR(比較損益入力!C10/比較損益入力!J10,"") | E28: =IFERROR(比較損益入力!D10/比較損益入力!K10,"") | F28: =IFERROR(比較損益入力!E10/比較損益入力!L10,"") | G28: =IFERROR(比較損益入力!F10/比較損益入力!M10,"") | H28: =IFERROR(比較損益入力!G10/比較損益入力!N10,"") | I28: 流動資産 ÷ 流動負債 | L28: １年以内に現金化される資産と、支払期限が来る負債の割合
A29: 当座比率 | B29: 100％以上 | C29: =IFERROR((比較損益入力!B10-比較損益入力!B16-比較損益入力!B17-比較損益入力!B18-比較損益入力!B19)/比較損益入力!I10,"") | D29: =IFERROR((比較損益入力!C10-比較損益入力!C16-比較損益入力!C17-比較損益入力!C18-比較損益入力!C19)/比較損益入力!J10,"") | E29: =IFERROR((比較損益入力!D10-比較損益入力!D16-比較損益入力!D17-比較損益入力!D18-比較損益入力!D19)/比較損益入力!K10,"") | F29: =IFERROR((比較損益入力!E10-比較損益入力!E16-比較損益入力!E17-比較損益入力!E18-比較損益入力!E19)/比較損益入力!L10,"") | G29: =IFERROR((比較損益入力!F10-比較損益入力!F16-比較損益入力!F17-比較損益入力!F18-比較損益入力!F19)/比較損益入力!M10,"") | H29: =IFERROR((比較損益入力!G10-比較損益入力!G16-比較損益入力!G17-比較損益入力!G18-比較損益入力!G19)/比較損益入力!N10,"") | I29: 当座資産 ÷ 流動負債 | L29: 流動資産の中の換金性が高いものと流動負債の割合
A30: 固定比率 | B30: 100％以下 | C30: =IFERROR(比較損益入力!B27/比較損益入力!I50,"") | D30: =IFERROR(比較損益入力!C27/比較損益入力!J50,"") | E30: =IFERROR(比較損益入力!D27/比較損益入力!K50,"") | F30: =IFERROR(比較損益入力!E27/比較損益入力!L50,"") | G30: =IFERROR(比較損益入力!F27/比較損益入力!M50,"") | H30: =IFERROR(比較損益入力!G27/比較損益入力!N50,"") | I30: 固定資産 ÷ 自己資本 | L30: 長期投資（固定資産）の自己資本（返済不要）での賄い率
A31: 固定長期適合率 | B31: 80％以下 | C31: =IFERROR(比較損益入力!B27/(比較損益入力!I23+比較損益入力!I44),"") | D31: =IFERROR(比較損益入力!C27/(比較損益入力!J23+比較損益入力!J44),"") | E31: =IFERROR(比較損益入力!D27/(比較損益入力!K23+比較損益入力!K44),"") | F31: =IFERROR(比較損益入力!E27/(比較損益入力!L23+比較損益入力!L44),"") | G31: =IFERROR(比較損益入力!F27/(比較損益入力!M23+比較損益入力!M44),"") | H31: =IFERROR(比較損益入力!G27/(比較損益入力!N23+比較損益入力!N44),"") | I31: 固定資産÷（自己資本＋固定負債） | L31: 固定比率の自己資本に固定負債（返済期限が長い）を足したもの
A32: インタレストカバレッジ・レシオ | B32: 1倍以上 | C32: =IFERROR((比較損益入力!Q25+比較損益入力!Q28)/比較損益入力!Q32,"") | D32: =IFERROR((比較損益入力!R25+比較損益入力!R28)/比較損益入力!R32,"") | E32: =IFERROR((比較損益入力!S25+比較損益入力!S28)/比較損益入力!S32,"") | F32: =IFERROR((比較損益入力!T25+比較損益入力!T28)/比較損益入力!T32,"") | G32: =IFERROR((比較損益入力!U25+比較損益入力!U28)/比較損益入力!U32,"") | H32: =IFERROR((比較損益入力!V25+比較損益入力!V28)/比較損益入力!V32,"") | I32: （営業利益 ＋ 金融収益）÷ 支払利息 | L32: 支払利息を、利益でどれくらいカバーできているか
A33: 自己資本比率 | B33: 50％以上 | C33: =IFERROR(比較損益入力!I44/比較損益入力!I50,"") | D33: =IFERROR(比較損益入力!J44/比較損益入力!J50,"") | E33: =IFERROR(比較損益入力!K44/比較損益入力!K50,"") | F33: =IFERROR(比較損益入力!L44/比較損益入力!L50,"") | G33: =IFERROR(比較損益入力!M44/比較損益入力!M50,"") | H33: =IFERROR(比較損益入力!N44/比較損益入力!N50,"") | I33: 自己資本 ÷ 総 資 本 | L33: 返済不要の資本が全体の資本調達の何％あるか
A34: 有利子負債比率 | B34: 100％以下 | C34: =IFERROR((比較損益入力!I13+比較損益入力!I24+比較損益入力!I25+比較損益入力!I29+比較損益入力!I27)/比較損益入力!I44,"") | D34: =IFERROR((比較損益入力!J13+比較損益入力!J24+比較損益入力!J25+比較損益入力!J29+比較損益入力!J27)/比較損益入力!J44,"") | E34: =IFERROR((比較損益入力!K13+比較損益入力!K24+比較損益入力!K25+比較損益入力!K29+比較損益入力!K27)/比較損益入力!K44,"") | F34: =IFERROR((比較損益入力!L13+比較損益入力!L24+比較損益入力!L25+比較損益入力!L29+比較損益入力!L27)/比較損益入力!L44,"") | G34: =IFERROR((比較損益入力!M13+比較損益入力!M24+比較損益入力!M25+比較損益入力!M29+比較損益入力!M27)/比較損益入力!M44,"") | H34: =IFERROR((比較損益入力!N13+比較損益入力!N24+比較損益入力!N25+比較損益入力!N29+比較損益入力!N27)/比較損益入力!N44,"") | I34: 有利子負債 ÷ 自己資本 | L34: 返済すべき負債と自己資本（返済不要）のバランスを見る
A35: ギヤリング比率 | B35: 300％以下 | C35: =IFERROR(比較損益入力!I32/比較損益入力!I44,"") | D35: =IFERROR(比較損益入力!J32/比較損益入力!J44,"") | E35: =IFERROR(比較損益入力!K32/比較損益入力!K44,"") | F35: =IFERROR(比較損益入力!L32/比較損益入力!L44,"") | G35: =IFERROR(比較損益入力!M32/比較損益入力!M44,"") | H35: =IFERROR(比較損益入力!N32/比較損益入力!N44,"") | I35: 他人資本 ÷ 自己資本 | L35: 自己資本と他人資本の比率
A36: 債務償還年数 | B36: 10年以内 | C36: =IFERROR((比較損益入力!I13+比較損益入力!I24+比較損益入力!I25)/(比較損益入力!Q25+比較損益入力!Q55),"") | D36: =IFERROR((比較損益入力!J13+比較損益入力!J24+比較損益入力!J25)/(比較損益入力!R25+比較損益入力!R55),"") | E36: =IFERROR((比較損益入力!K13+比較損益入力!K24+比較損益入力!K25)/(比較損益入力!S25+比較損益入力!S55),"") | F36: =IFERROR((比較損益入力!L13+比較損益入力!L24+比較損益入力!L25)/(比較損益入力!T25+比較損益入力!T55),"") | G36: =IFERROR((比較損益入力!M13+比較損益入力!M24+比較損益入力!M25)/(比較損益入力!U25+比較損益入力!U55),"") | H36: =IFERROR((比較損益入力!N13+比較損益入力!N24+比較損益入力!N25)/(比較損益入力!V25+比較損益入力!V55),"") | I36: 借入金の残高 ÷（税引後利益＋減価償却費） | L36: 借入金返済能力
A37: EBITDA有利子負債倍率(倍） | B37: 10倍以下 | C37: =IFERROR((比較損益入力!I13+比較損益入力!I24+比較損益入力!I25-比較損益入力!B11)/(比較損益入力!Q25+比較損益入力!Q55),"") | D37: =IFERROR((比較損益入力!J13+比較損益入力!J24+比較損益入力!J25-比較損益入力!C11)/(比較損益入力!R25+比較損益入力!R55),"") | E37: =IFERROR((比較損益入力!K13+比較損益入力!K24+比較損益入力!K25-比較損益入力!D11)/(比較損益入力!S25+比較損益入力!S55),"") | F37: =IFERROR((比較損益入力!L13+比較損益入力!L24+比較損益入力!L25-比較損益入力!E11)/(比較損益入力!T25+比較損益入力!T55),"") | G37: =IFERROR((比較損益入力!M13+比較損益入力!M24+比較損益入力!M25-比較損益入力!F11)/(比較損益入力!U25+比較損益入力!U55),"") | H37: =IFERROR((比較損益入力!N13+比較損益入力!N24+比較損益入力!N25-比較損益入力!G11)/(比較損益入力!V25+比較損益入力!V55),"") | I37: （借入金-現預金）÷（営業利益+減価償却費） | L37: 現預金を加味した借入金返済能力
A38: 成長性
B40: 目安 | C40: 5年前 | D40: 4年前 | E40: 3年前 | F40: 前々期 | G40: 前 期 | H40: 当 期 | L40: これからも事業は伸びていくか
A41: 売上高増加率 | B41: 10％以上 | C41: =IFERROR((比較損益入力!Q10-比較損益入力!P10)/比較損益入力!P10,"") | D41: =IFERROR((比較損益入力!R10-比較損益入力!Q10)/比較損益入力!Q10,"") | E41: =IFERROR((比較損益入力!S10-比較損益入力!R10)/比較損益入力!R10,"") | F41: =IFERROR((比較損益入力!T10-比較損益入力!S10)/比較損益入力!S10,"") | G41: =IFERROR((比較損益入力!U10-比較損益入力!T10)/比較損益入力!T10,"") | H41: =IFERROR((比較損益入力!V10-比較損益入力!U10)/比較損益入力!U10,"") | I41: （当期売上高ー前期売上高） ÷ 前期売上高×100 | L41: 売上の増加率
A42: 営業利益増加率 | B42: 10％以上 | C42: =IFERROR((比較損益入力!Q25-比較損益入力!P25)/比較損益入力!P25,"") | D42: =IFERROR((比較損益入力!R25-比較損益入力!Q25)/比較損益入力!Q25,"") | E42: =IFERROR((比較損益入力!S25-比較損益入力!R25)/比較損益入力!R25,"") | F42: =IFERROR((比較損益入力!T25-比較損益入力!S25)/比較損益入力!S25,"") | G42: =IFERROR((比較損益入力!U25-比較損益入力!T25)/比較損益入力!T25,"") | H42: =IFERROR((比較損益入力!V25-比較損益入力!U25)/比較損益入力!U25,"") | I42: （当期営業利益－前期営業利益）÷前期営業利益×100 | L42: 営業利益の増加率
A43: 純資産増加率 | B43: 8％以上 | C43: =IFERROR((比較損益入力!I44-比較損益入力!H44)/比較損益入力!H44,"") | D43: =IFERROR((比較損益入力!J44-比較損益入力!I44)/比較損益入力!I44,"") | E43: =IFERROR((比較損益入力!K44-比較損益入力!J44)/比較損益入力!J44,"") | F43: =IFERROR((比較損益入力!L44-比較損益入力!K44)/比較損益入力!K44,"") | G43: =IFERROR((比較損益入力!M44-比較損益入力!L44)/比較損益入力!L44,"") | H43: =IFERROR((比較損益入力!N44-比較損益入力!M44)/比較損益入力!M44,"") | I43: （今期自己資本－前期自己資本）÷前期自己資本×100 | L43: 純資産の増加率

Sheet 総合分析
B1: 過去分析・成行き想定
C3: 5年前 | D3: 4年前 | E3: 3年前 | F3: 前々期 | G3: 前 期 | H3: 当 期 | I3: 1年後 | J3: 2年後 | K3: 3年後 | L3: 4年後 | M3: 5年後 | O3: 過去の結果要因 | T3: 成行き想定
B4: 売上 | C4: =比較損益入力!Q10 -> 0 | D4: =比較損益入力!R10 -> 0 | E4: =比較損益入力!S10 -> 0 | F4: =比較損益入力!T10 -> 0 | G4: =比較損益入力!U10 -> 0 | H4: =比較損益入力!V10 -> 0
B5: 売上総利益 | C5: =比較損益入力!Q21 -> 0 | D5: =比較損益入力!R21 -> 0 | E5: =比較損益入力!S21 -> 0 | F5: =比較損益入力!T21 -> 0 | G5: =比較損益入力!U21 -> 0 | H5: =比較損益入力!V21 -> 0
B6: 販売費及び一般管理費 | C6: =比較損益入力!Q23 -> 0 | D6: =比較損益入力!R23 -> 0 | E6: =比較損益入力!S23 -> 0 | F6: =比較損益入力!T23 -> 0 | G6: =比較損益入力!U23 -> 0 | H6: =比較損益入力!V23 -> 0
B7: 営業利益 | C7: =比較損益入力!Q25 -> 0 | D7: =比較損益入力!R25 -> 0 | E7: =比較損益入力!S25 -> 0 | F7: =比較損益入力!T25 -> 0 | G7: =比較損益入力!U25 -> 0 | H7: =比較損益入力!V25 -> 0
B8: 経常利益 | C8: =比較損益入力!Q35 -> 0 | D8: =比較損益入力!R35 -> 0 | E8: =比較損益入力!S35 -> 0 | F8: =比較損益入力!T35 -> 0 | G8: =比較損益入力!U35 -> 0 | H8: =比較損益入力!V35 -> 0
B9: 売上増加率 | C9: =財務分析!C41 | D9: =財務分析!D41 | E9: =財務分析!E41 | F9: =財務分析!F41 | G9: =財務分析!G41 | H9: =財務分析!H41
B10: 営業利益率 | C10: =財務分析!C11 | D10: =財務分析!D11 | E10: =財務分析!E11 | F10: =財務分析!F11 | G10: =財務分析!G11 | H10: =財務分析!H11
B11: 労働生産性 | C11: =財務分析!C18 | D11: =財務分析!D18 | E11: =財務分析!E18 | F11: =財務分析!F18 | G11: =財務分析!G18 | H11: =財務分析!H18
B12: EBITDA有利子負債倍率 | C12: =財務分析!C37 | D12: =財務分析!D37 | E12: =財務分析!E37 | F12: =財務分析!F37 | G12: =財務分析!G37 | H12: =財務分析!H37
B13: 営業運転資本回転期間 | C13: =財務分析!C23 | D13: =財務分析!D23 | E13: =財務分析!E23 | F13: =財務分析!F23 | G13: =財務分析!G23 | H13: =財務分析!H23
B14: 自己資本比率 | C14: =財務分析!C33 | D14: =財務分析!D33 | E14: =財務分析!E33 | F14: =財務分析!F33 | G14: =財務分析!G33 | H14: =財務分析!H33
O15: 想定される環境変化 | T15: 取るべき対策
